BEGIN:VCALENDAR
PRODID:-//eluceo/ical//2.0/EN
VERSION:2.0
CALSCALE:GREGORIAN
BEGIN:VEVENT
UID:7a5bf4cbc3376ab45ce6939407b77897
DTSTAMP:20260424T133736Z
SUMMARY:Šampión
DTSTART;TZID=Europe/Prague:20260526T100000
DTEND;TZID=Europe/Prague:20260526T113000
LOCATION:Bio Central
END:VEVENT
END:VCALENDAR
BEGIN:VCALENDAR
PRODID:-//eluceo/ical//2.0/EN
VERSION:2.0
CALSCALE:GREGORIAN
BEGIN:VEVENT
UID:f9493c2c633cbe8e055af6307802023a
DTSTAMP:20260424T133736Z
SUMMARY:Šampión
DTSTART;TZID=Europe/Prague:20260526T100000
DTEND;TZID=Europe/Prague:20260526T113000
LOCATION:Bio Central
END:VEVENT
END:VCALENDAR
