BEGIN:VCALENDAR
PRODID:-//eluceo/ical//2.0/EN
VERSION:2.0
CALSCALE:GREGORIAN
BEGIN:VEVENT
UID:a72bf3384cd6c9b46528ead3d7a264c2
DTSTAMP:20260420T152336Z
SUMMARY:Audience | NT Live
DTSTART;TZID=Europe/Prague:20260522T173000
DTEND;TZID=Europe/Prague:20260522T195800
LOCATION:Bio Oko
END:VEVENT
END:VCALENDAR
BEGIN:VCALENDAR
PRODID:-//eluceo/ical//2.0/EN
VERSION:2.0
CALSCALE:GREGORIAN
BEGIN:VEVENT
UID:6eb377d7ad99b1829820a7933fa96e2c
DTSTAMP:20260420T152336Z
SUMMARY:Audience | NT Live
DTSTART;TZID=Europe/Prague:20260522T173000
DTEND;TZID=Europe/Prague:20260522T195800
LOCATION:Bio Oko
END:VEVENT
END:VCALENDAR
