BEGIN:VCALENDAR
PRODID:-//eluceo/ical//2.0/EN
VERSION:2.0
CALSCALE:GREGORIAN
BEGIN:VEVENT
UID:c1aebc96dd25df834926db93b3513138
DTSTAMP:20260421T123815Z
SUMMARY:Ďábel nosí Pradu 2
DTSTART;TZID=Europe/Prague:20260505T150000
DTEND;TZID=Europe/Prague:20260505T170000
LOCATION:Kino Lucerna
END:VEVENT
END:VCALENDAR
BEGIN:VCALENDAR
PRODID:-//eluceo/ical//2.0/EN
VERSION:2.0
CALSCALE:GREGORIAN
BEGIN:VEVENT
UID:1bcfff398cc6cab9f33136b04d263a62
DTSTAMP:20260421T123815Z
SUMMARY:Ďábel nosí Pradu 2
DTSTART;TZID=Europe/Prague:20260505T150000
DTEND;TZID=Europe/Prague:20260505T170000
LOCATION:Kino Lucerna
END:VEVENT
END:VCALENDAR
