BEGIN:VCALENDAR
PRODID:-//eluceo/ical//2.0/EN
VERSION:2.0
CALSCALE:GREGORIAN
BEGIN:VEVENT
UID:2321394ecbfc8a6be01408a44984b1d6
DTSTAMP:20260421T123529Z
SUMMARY:Ďábel nosí Pradu 2
DTSTART;TZID=Europe/Prague:20260502T173000
DTEND;TZID=Europe/Prague:20260502T193000
LOCATION:Kino Lucerna
END:VEVENT
END:VCALENDAR
BEGIN:VCALENDAR
PRODID:-//eluceo/ical//2.0/EN
VERSION:2.0
CALSCALE:GREGORIAN
BEGIN:VEVENT
UID:954b22994b223a0937b237b2a4452385
DTSTAMP:20260421T123529Z
SUMMARY:Ďábel nosí Pradu 2
DTSTART;TZID=Europe/Prague:20260502T173000
DTEND;TZID=Europe/Prague:20260502T193000
LOCATION:Kino Lucerna
END:VEVENT
END:VCALENDAR
