BEGIN:VCALENDAR
PRODID:-//eluceo/ical//2.0/EN
VERSION:2.0
CALSCALE:GREGORIAN
BEGIN:VEVENT
UID:86a466b13303b91e83f5ead4723f8dec
DTSTAMP:20260424T133707Z
SUMMARY:Šampión
DTSTART;TZID=Europe/Prague:20260520T150000
DTEND;TZID=Europe/Prague:20260520T163000
LOCATION:Kino Lucerna
END:VEVENT
END:VCALENDAR
BEGIN:VCALENDAR
PRODID:-//eluceo/ical//2.0/EN
VERSION:2.0
CALSCALE:GREGORIAN
BEGIN:VEVENT
UID:b9a7247fa31cf31af25f8c7cfc2b5489
DTSTAMP:20260424T133707Z
SUMMARY:Šampión
DTSTART;TZID=Europe/Prague:20260520T150000
DTEND;TZID=Europe/Prague:20260520T163000
LOCATION:Kino Lucerna
END:VEVENT
END:VCALENDAR
