BEGIN:VCALENDAR
PRODID:-//eluceo/ical//2.0/EN
VERSION:2.0
CALSCALE:GREGORIAN
BEGIN:VEVENT
UID:e960f6d3fcd00c29057dd7772db6e489
DTSTAMP:20260420T152634Z
SUMMARY:Audience | NT Live
DTSTART;TZID=Europe/Prague:20260726T203000
DTEND;TZID=Europe/Prague:20260726T225800
LOCATION:Kino Přítomnost
END:VEVENT
END:VCALENDAR
BEGIN:VCALENDAR
PRODID:-//eluceo/ical//2.0/EN
VERSION:2.0
CALSCALE:GREGORIAN
BEGIN:VEVENT
UID:364a4684fed74d9f0895cae9ea548973
DTSTAMP:20260420T152634Z
SUMMARY:Audience | NT Live
DTSTART;TZID=Europe/Prague:20260726T203000
DTEND;TZID=Europe/Prague:20260726T225800
LOCATION:Kino Přítomnost
END:VEVENT
END:VCALENDAR
