BEGIN:VCALENDAR
PRODID:-//eluceo/ical//2.0/EN
VERSION:2.0
CALSCALE:GREGORIAN
BEGIN:VEVENT
UID:a6ae758ba2e2b047691aeddbfcc5b67a
DTSTAMP:20260424T141935Z
SUMMARY:Šepot lesa
DTSTART;TZID=Europe/Prague:20260521T133000
DTEND;TZID=Europe/Prague:20260521T150500
LOCATION:Kino Aero
END:VEVENT
END:VCALENDAR
BEGIN:VCALENDAR
PRODID:-//eluceo/ical//2.0/EN
VERSION:2.0
CALSCALE:GREGORIAN
BEGIN:VEVENT
UID:bf52a2fd49582d599fc4b16d4071a0b3
DTSTAMP:20260424T141935Z
SUMMARY:Šepot lesa
DTSTART;TZID=Europe/Prague:20260521T133000
DTEND;TZID=Europe/Prague:20260521T150500
LOCATION:Kino Aero
END:VEVENT
END:VCALENDAR
