BEGIN:VCALENDAR
PRODID:-//eluceo/ical//2.0/EN
VERSION:2.0
CALSCALE:GREGORIAN
BEGIN:VEVENT
UID:a4ef720e459ebdd2b9a6d571dbd5b4f6
DTSTAMP:20260422T103239Z
SUMMARY:2000 metrů do Andrijivky
DTSTART;TZID=Europe/Prague:20260428T203000
DTEND;TZID=Europe/Prague:20260428T221800
LOCATION:Kino Světozor
END:VEVENT
END:VCALENDAR
BEGIN:VCALENDAR
PRODID:-//eluceo/ical//2.0/EN
VERSION:2.0
CALSCALE:GREGORIAN
BEGIN:VEVENT
UID:5a8556fe6d48be4a0378209d60148229
DTSTAMP:20260422T103239Z
SUMMARY:2000 metrů do Andrijivky
DTSTART;TZID=Europe/Prague:20260428T203000
DTEND;TZID=Europe/Prague:20260428T221800
LOCATION:Kino Světozor
END:VEVENT
END:VCALENDAR
