BEGIN:VCALENDAR
PRODID:-//eluceo/ical//2.0/EN
VERSION:2.0
CALSCALE:GREGORIAN
BEGIN:VEVENT
UID:33b8b985ccaca13252195730a32a1fee
DTSTAMP:20260424T132637Z
SUMMARY:Neboj\, dýchej\, čaruj
DTSTART;TZID=Europe/Prague:20260425T161500
DTEND;TZID=Europe/Prague:20260425T175300
LOCATION:Kino Světozor
END:VEVENT
END:VCALENDAR
BEGIN:VCALENDAR
PRODID:-//eluceo/ical//2.0/EN
VERSION:2.0
CALSCALE:GREGORIAN
BEGIN:VEVENT
UID:abe31b06e2ff791ab68b08f881062f14
DTSTAMP:20260424T132637Z
SUMMARY:Neboj\, dýchej\, čaruj
DTSTART;TZID=Europe/Prague:20260425T161500
DTEND;TZID=Europe/Prague:20260425T175300
LOCATION:Kino Světozor
END:VEVENT
END:VCALENDAR
