BEGIN:VCALENDAR
PRODID:-//eluceo/ical//2.0/EN
VERSION:2.0
CALSCALE:GREGORIAN
BEGIN:VEVENT
UID:cadbc14c16f70456ddef09a243440b73
DTSTAMP:20260425T023715Z
SUMMARY:Farmářky z paneláku
DTSTART;TZID=Europe/Prague:20260501T130000
DTEND;TZID=Europe/Prague:20260501T143000
LOCATION:Bio Oko
END:VEVENT
END:VCALENDAR
BEGIN:VCALENDAR
PRODID:-//eluceo/ical//2.0/EN
VERSION:2.0
CALSCALE:GREGORIAN
BEGIN:VEVENT
UID:46ca55e12b634785447dcc4d463be787
DTSTAMP:20260425T023715Z
SUMMARY:Farmářky z paneláku
DTSTART;TZID=Europe/Prague:20260501T130000
DTEND;TZID=Europe/Prague:20260501T143000
LOCATION:Bio Oko
END:VEVENT
END:VCALENDAR
