BEGIN:VCALENDAR
PRODID:-//eluceo/ical//2.0/EN
VERSION:2.0
CALSCALE:GREGORIAN
BEGIN:VEVENT
UID:d936c6faa964759fb68dcadf84b4b9a6
DTSTAMP:20260424T133702Z
SUMMARY:Šampión
DTSTART;TZID=Europe/Prague:20260522T150000
DTEND;TZID=Europe/Prague:20260522T163000
LOCATION:Kino Světozor
END:VEVENT
END:VCALENDAR
BEGIN:VCALENDAR
PRODID:-//eluceo/ical//2.0/EN
VERSION:2.0
CALSCALE:GREGORIAN
BEGIN:VEVENT
UID:39caacc7ec76526c011b854a0d799cc8
DTSTAMP:20260424T133702Z
SUMMARY:Šampión
DTSTART;TZID=Europe/Prague:20260522T150000
DTEND;TZID=Europe/Prague:20260522T163000
LOCATION:Kino Světozor
END:VEVENT
END:VCALENDAR
