BEGIN:VCALENDAR
PRODID:-//eluceo/ical//2.0/EN
VERSION:2.0
CALSCALE:GREGORIAN
BEGIN:VEVENT
UID:797f6a47830bcc6131f62e78b9b6bf95
DTSTAMP:20260424T133003Z
SUMMARY:Neboj\, dýchej\, čaruj
DTSTART;TZID=Europe/Prague:20260426T151500
DTEND;TZID=Europe/Prague:20260426T165300
LOCATION:Univerzitní kino Scala
END:VEVENT
END:VCALENDAR
BEGIN:VCALENDAR
PRODID:-//eluceo/ical//2.0/EN
VERSION:2.0
CALSCALE:GREGORIAN
BEGIN:VEVENT
UID:d5376794a2bee93623e1b4a4e7092e22
DTSTAMP:20260424T133003Z
SUMMARY:Neboj\, dýchej\, čaruj
DTSTART;TZID=Europe/Prague:20260426T151500
DTEND;TZID=Europe/Prague:20260426T165300
LOCATION:Univerzitní kino Scala
END:VEVENT
END:VCALENDAR
