BEGIN:VCALENDAR
PRODID:-//eluceo/ical//2.0/EN
VERSION:2.0
CALSCALE:GREGORIAN
BEGIN:VEVENT
UID:b7c108fbc71359fc6247f0f0408cc231
DTSTAMP:20260420T232059Z
SUMMARY:Bez rozloučení… A co dál?
DTSTART;TZID=Europe/Prague:20260423T170000
DTEND;TZID=Europe/Prague:20260423T183000
LOCATION:Bio Oko
END:VEVENT
END:VCALENDAR
BEGIN:VCALENDAR
PRODID:-//eluceo/ical//2.0/EN
VERSION:2.0
CALSCALE:GREGORIAN
BEGIN:VEVENT
UID:83f421be7f9ba46ba2b5c596f69fb3fb
DTSTAMP:20260420T232059Z
SUMMARY:Bez rozloučení… A co dál?
DTSTART;TZID=Europe/Prague:20260423T170000
DTEND;TZID=Europe/Prague:20260423T183000
LOCATION:Bio Oko
END:VEVENT
END:VCALENDAR
