BEGIN:VCALENDAR
PRODID:-//eluceo/ical//2.0/EN
VERSION:2.0
CALSCALE:GREGORIAN
BEGIN:VEVENT
UID:c5422a76b0bdb1a5d875792f3e4262eb
DTSTAMP:20260421T082458Z
SUMMARY:Pásmo pohádek s tvořivou dílnou
DTSTART;TZID=Europe/Prague:20260314T150000
DTEND;TZID=Europe/Prague:20260314T163000
LOCATION:Kino Aero
END:VEVENT
END:VCALENDAR
BEGIN:VCALENDAR
PRODID:-//eluceo/ical//2.0/EN
VERSION:2.0
CALSCALE:GREGORIAN
BEGIN:VEVENT
UID:d90240399a7660ca3b00562525e9324c
DTSTAMP:20260421T082458Z
SUMMARY:Pásmo pohádek s tvořivou dílnou
DTSTART;TZID=Europe/Prague:20260314T150000
DTEND;TZID=Europe/Prague:20260314T163000
LOCATION:Kino Aero
END:VEVENT
END:VCALENDAR
