BEGIN:VCALENDAR
PRODID:-//eluceo/ical//2.0/EN
VERSION:2.0
CALSCALE:GREGORIAN
BEGIN:VEVENT
UID:85df1575c299a8e5fc75e6be2f86c5c6
DTSTAMP:20260421T083452Z
SUMMARY:Pillion
DTSTART;TZID=Europe/Prague:20260324T200000
DTEND;TZID=Europe/Prague:20260324T214300
LOCATION:Kino Světozor
END:VEVENT
END:VCALENDAR
BEGIN:VCALENDAR
PRODID:-//eluceo/ical//2.0/EN
VERSION:2.0
CALSCALE:GREGORIAN
BEGIN:VEVENT
UID:0f542a7e965a6b5f59518ade7aac9b46
DTSTAMP:20260421T083452Z
SUMMARY:Pillion
DTSTART;TZID=Europe/Prague:20260324T200000
DTEND;TZID=Europe/Prague:20260324T214300
LOCATION:Kino Světozor
END:VEVENT
END:VCALENDAR
