BEGIN:VCALENDAR
PRODID:-//eluceo/ical//2.0/EN
VERSION:2.0
CALSCALE:GREGORIAN
BEGIN:VEVENT
UID:80bd66e1aa8bde8fd449329c3b6839dd
DTSTAMP:20260425T011453Z
SUMMARY:Ďábel nosí Pradu 2
DTSTART;TZID=Europe/Prague:20260502T201500
DTEND;TZID=Europe/Prague:20260502T221500
LOCATION:Kino Aero
END:VEVENT
END:VCALENDAR
BEGIN:VCALENDAR
PRODID:-//eluceo/ical//2.0/EN
VERSION:2.0
CALSCALE:GREGORIAN
BEGIN:VEVENT
UID:5ec3d951275ee019f276254bb9107f23
DTSTAMP:20260425T011453Z
SUMMARY:Ďábel nosí Pradu 2
DTSTART;TZID=Europe/Prague:20260502T201500
DTEND;TZID=Europe/Prague:20260502T221500
LOCATION:Kino Aero
END:VEVENT
END:VCALENDAR
