BEGIN:VCALENDAR
PRODID:-//eluceo/ical//2.0/EN
VERSION:2.0
CALSCALE:GREGORIAN
BEGIN:VEVENT
UID:ad5073050fda366d591c2de72695ceae
DTSTAMP:20260424T134101Z
SUMMARY:Neboj\, dýchej\, čaruj
DTSTART;TZID=Europe/Prague:20260525T150000
DTEND;TZID=Europe/Prague:20260525T163800
LOCATION:Bio Oko
END:VEVENT
END:VCALENDAR
BEGIN:VCALENDAR
PRODID:-//eluceo/ical//2.0/EN
VERSION:2.0
CALSCALE:GREGORIAN
BEGIN:VEVENT
UID:e34e4e4c83cb29c015a64b52010af7c3
DTSTAMP:20260424T134101Z
SUMMARY:Neboj\, dýchej\, čaruj
DTSTART;TZID=Europe/Prague:20260525T150000
DTEND;TZID=Europe/Prague:20260525T163800
LOCATION:Bio Oko
END:VEVENT
END:VCALENDAR
