BEGIN:VCALENDAR
PRODID:-//eluceo/ical//2.0/EN
VERSION:2.0
CALSCALE:GREGORIAN
BEGIN:VEVENT
UID:64ac95724f1eb0879b0eb8474113018b
DTSTAMP:20260425T011213Z
SUMMARY:Ďábel nosí Pradu 2
DTSTART;TZID=Europe/Prague:20260504T151500
DTEND;TZID=Europe/Prague:20260504T171500
LOCATION:Kino Světozor
END:VEVENT
END:VCALENDAR
BEGIN:VCALENDAR
PRODID:-//eluceo/ical//2.0/EN
VERSION:2.0
CALSCALE:GREGORIAN
BEGIN:VEVENT
UID:93a594948ba27b9168a47977054a02ea
DTSTAMP:20260425T011213Z
SUMMARY:Ďábel nosí Pradu 2
DTSTART;TZID=Europe/Prague:20260504T151500
DTEND;TZID=Europe/Prague:20260504T171500
LOCATION:Kino Světozor
END:VEVENT
END:VCALENDAR
