BEGIN:VCALENDAR
PRODID:-//eluceo/ical//2.0/EN
VERSION:2.0
CALSCALE:GREGORIAN
BEGIN:VEVENT
UID:15701463bf9239dddfc573b458e5224a
DTSTAMP:20260425T011507Z
SUMMARY:Ďábel nosí Pradu 2
DTSTART;TZID=Europe/Prague:20260506T150000
DTEND;TZID=Europe/Prague:20260506T170000
LOCATION:Kino Světozor
END:VEVENT
END:VCALENDAR
BEGIN:VCALENDAR
PRODID:-//eluceo/ical//2.0/EN
VERSION:2.0
CALSCALE:GREGORIAN
BEGIN:VEVENT
UID:ff4701c362a157321f074915c63c0897
DTSTAMP:20260425T011507Z
SUMMARY:Ďábel nosí Pradu 2
DTSTART;TZID=Europe/Prague:20260506T150000
DTEND;TZID=Europe/Prague:20260506T170000
LOCATION:Kino Světozor
END:VEVENT
END:VCALENDAR
