BEGIN:VCALENDAR
PRODID:-//eluceo/ical//2.0/EN
VERSION:2.0
CALSCALE:GREGORIAN
BEGIN:VEVENT
UID:ffc250ad68876d1a4ef19070364bae54
DTSTAMP:20260425T011312Z
SUMMARY:Ďábel nosí Pradu 2
DTSTART;TZID=Europe/Prague:20260503T123000
DTEND;TZID=Europe/Prague:20260503T143000
LOCATION:Kino Světozor
END:VEVENT
END:VCALENDAR
BEGIN:VCALENDAR
PRODID:-//eluceo/ical//2.0/EN
VERSION:2.0
CALSCALE:GREGORIAN
BEGIN:VEVENT
UID:3cc9b0cd61a7c1f64d96559253f6cf62
DTSTAMP:20260425T011312Z
SUMMARY:Ďábel nosí Pradu 2
DTSTART;TZID=Europe/Prague:20260503T123000
DTEND;TZID=Europe/Prague:20260503T143000
LOCATION:Kino Světozor
END:VEVENT
END:VCALENDAR
