BEGIN:VCALENDAR
PRODID:-//eluceo/ical//2.0/EN
VERSION:2.0
CALSCALE:GREGORIAN
BEGIN:VEVENT
UID:0a6e89c2e6888d0735a16755cfdb8ead
DTSTAMP:20260425T011121Z
SUMMARY:Ďábel nosí Pradu 2
DTSTART;TZID=Europe/Prague:20260502T150000
DTEND;TZID=Europe/Prague:20260502T170000
LOCATION:Kino Světozor
END:VEVENT
END:VCALENDAR
BEGIN:VCALENDAR
PRODID:-//eluceo/ical//2.0/EN
VERSION:2.0
CALSCALE:GREGORIAN
BEGIN:VEVENT
UID:8e0c5047a29992b62c4d727057e269f4
DTSTAMP:20260425T011121Z
SUMMARY:Ďábel nosí Pradu 2
DTSTART;TZID=Europe/Prague:20260502T150000
DTEND;TZID=Europe/Prague:20260502T170000
LOCATION:Kino Světozor
END:VEVENT
END:VCALENDAR
