BEGIN:VCALENDAR
PRODID:-//eluceo/ical//2.0/EN
VERSION:2.0
CALSCALE:GREGORIAN
BEGIN:VEVENT
UID:6df509e40213cb461601cf0e8cbb1cf3
DTSTAMP:20260425T011220Z
SUMMARY:Ďábel nosí Pradu 2
DTSTART;TZID=Europe/Prague:20260501T123000
DTEND;TZID=Europe/Prague:20260501T143000
LOCATION:Kino Světozor
END:VEVENT
END:VCALENDAR
BEGIN:VCALENDAR
PRODID:-//eluceo/ical//2.0/EN
VERSION:2.0
CALSCALE:GREGORIAN
BEGIN:VEVENT
UID:35ffc4e7aca8319aaa168d32ad5025c4
DTSTAMP:20260425T011220Z
SUMMARY:Ďábel nosí Pradu 2
DTSTART;TZID=Europe/Prague:20260501T123000
DTEND;TZID=Europe/Prague:20260501T143000
LOCATION:Kino Světozor
END:VEVENT
END:VCALENDAR
