BEGIN:VCALENDAR
PRODID:-//eluceo/ical//2.0/EN
VERSION:2.0
CALSCALE:GREGORIAN
BEGIN:VEVENT
UID:f186c261fdae1de6a279a5014ea50770
DTSTAMP:20260425T011811Z
SUMMARY:Ďábel nosí Pradu 2
DTSTART;TZID=Europe/Prague:20260503T121500
DTEND;TZID=Europe/Prague:20260503T141500
LOCATION:Bio Oko
END:VEVENT
END:VCALENDAR
BEGIN:VCALENDAR
PRODID:-//eluceo/ical//2.0/EN
VERSION:2.0
CALSCALE:GREGORIAN
BEGIN:VEVENT
UID:19a92b6f4f68831dca95e80b6233fa77
DTSTAMP:20260425T011811Z
SUMMARY:Ďábel nosí Pradu 2
DTSTART;TZID=Europe/Prague:20260503T121500
DTEND;TZID=Europe/Prague:20260503T141500
LOCATION:Bio Oko
END:VEVENT
END:VCALENDAR
