BEGIN:VCALENDAR
PRODID:-//eluceo/ical//2.0/EN
VERSION:2.0
CALSCALE:GREGORIAN
BEGIN:VEVENT
UID:6a9142e1f7f408af644402e502821f4a
DTSTAMP:20260425T011648Z
SUMMARY:Ďábel nosí Pradu 2
DTSTART;TZID=Europe/Prague:20260503T173000
DTEND;TZID=Europe/Prague:20260503T193000
LOCATION:Bio Central
END:VEVENT
END:VCALENDAR
BEGIN:VCALENDAR
PRODID:-//eluceo/ical//2.0/EN
VERSION:2.0
CALSCALE:GREGORIAN
BEGIN:VEVENT
UID:a2991a55eabc00f631318f956f7a8c00
DTSTAMP:20260425T011648Z
SUMMARY:Ďábel nosí Pradu 2
DTSTART;TZID=Europe/Prague:20260503T173000
DTEND;TZID=Europe/Prague:20260503T193000
LOCATION:Bio Central
END:VEVENT
END:VCALENDAR
