BEGIN:VCALENDAR
PRODID:-//eluceo/ical//2.0/EN
VERSION:2.0
CALSCALE:GREGORIAN
BEGIN:VEVENT
UID:a6e5ad2794a8701d4cd715020dcefbde
DTSTAMP:20260425T011220Z
SUMMARY:Ďábel nosí Pradu 2
DTSTART;TZID=Europe/Prague:20260501T203000
DTEND;TZID=Europe/Prague:20260501T223000
LOCATION:Bio Central
END:VEVENT
END:VCALENDAR
BEGIN:VCALENDAR
PRODID:-//eluceo/ical//2.0/EN
VERSION:2.0
CALSCALE:GREGORIAN
BEGIN:VEVENT
UID:e757446b0c8e95b3bad1d36f085f6ed8
DTSTAMP:20260425T011220Z
SUMMARY:Ďábel nosí Pradu 2
DTSTART;TZID=Europe/Prague:20260501T203000
DTEND;TZID=Europe/Prague:20260501T223000
LOCATION:Bio Central
END:VEVENT
END:VCALENDAR
