BEGIN:VCALENDAR
PRODID:-//eluceo/ical//2.0/EN
VERSION:2.0
CALSCALE:GREGORIAN
BEGIN:VEVENT
UID:a07770b541fbe43c1445bbef4a5cbe39
DTSTAMP:20260425T011811Z
SUMMARY:Ďábel nosí Pradu 2
DTSTART;TZID=Europe/Prague:20260504T203000
DTEND;TZID=Europe/Prague:20260504T223000
LOCATION:Bio Central
END:VEVENT
END:VCALENDAR
BEGIN:VCALENDAR
PRODID:-//eluceo/ical//2.0/EN
VERSION:2.0
CALSCALE:GREGORIAN
BEGIN:VEVENT
UID:9690ae81490f5d07dc1f2cf0b239e674
DTSTAMP:20260425T011811Z
SUMMARY:Ďábel nosí Pradu 2
DTSTART;TZID=Europe/Prague:20260504T203000
DTEND;TZID=Europe/Prague:20260504T223000
LOCATION:Bio Central
END:VEVENT
END:VCALENDAR
