BEGIN:VCALENDAR
PRODID:-//eluceo/ical//2.0/EN
VERSION:2.0
CALSCALE:GREGORIAN
BEGIN:VEVENT
UID:5f5b9b1c4e1a232178edd994ba3537ab
DTSTAMP:20260425T011648Z
SUMMARY:Ďábel nosí Pradu 2
DTSTART;TZID=Europe/Prague:20260502T123000
DTEND;TZID=Europe/Prague:20260502T143000
LOCATION:Kino Lucerna
END:VEVENT
END:VCALENDAR
BEGIN:VCALENDAR
PRODID:-//eluceo/ical//2.0/EN
VERSION:2.0
CALSCALE:GREGORIAN
BEGIN:VEVENT
UID:81eab3b861ace77e522df1860dae465e
DTSTAMP:20260425T011648Z
SUMMARY:Ďábel nosí Pradu 2
DTSTART;TZID=Europe/Prague:20260502T123000
DTEND;TZID=Europe/Prague:20260502T143000
LOCATION:Kino Lucerna
END:VEVENT
END:VCALENDAR
