BEGIN:VCALENDAR
PRODID:-//eluceo/ical//2.0/EN
VERSION:2.0
CALSCALE:GREGORIAN
BEGIN:VEVENT
UID:453023ec0e2f0427ae2b2fe348e11c07
DTSTAMP:20260425T011810Z
SUMMARY:Ďábel nosí Pradu 2
DTSTART;TZID=Europe/Prague:20260501T153000
DTEND;TZID=Europe/Prague:20260501T173000
LOCATION:Kino Lucerna
END:VEVENT
END:VCALENDAR
BEGIN:VCALENDAR
PRODID:-//eluceo/ical//2.0/EN
VERSION:2.0
CALSCALE:GREGORIAN
BEGIN:VEVENT
UID:0d27c652c2f4fd53e193efea2f787ffd
DTSTAMP:20260425T011810Z
SUMMARY:Ďábel nosí Pradu 2
DTSTART;TZID=Europe/Prague:20260501T153000
DTEND;TZID=Europe/Prague:20260501T173000
LOCATION:Kino Lucerna
END:VEVENT
END:VCALENDAR
