BEGIN:VCALENDAR
PRODID:-//eluceo/ical//2.0/EN
VERSION:2.0
CALSCALE:GREGORIAN
BEGIN:VEVENT
UID:5fd35cd5f34111cf56ef0cacfae1aa57
DTSTAMP:20260425T011523Z
SUMMARY:Ďábel nosí Pradu 2
DTSTART;TZID=Europe/Prague:20260508T171500
DTEND;TZID=Europe/Prague:20260508T191500
LOCATION:Univerzitní kino Scala
END:VEVENT
END:VCALENDAR
BEGIN:VCALENDAR
PRODID:-//eluceo/ical//2.0/EN
VERSION:2.0
CALSCALE:GREGORIAN
BEGIN:VEVENT
UID:ce4b7e4e4bec8daccc008e4cd9dd94d3
DTSTAMP:20260425T011523Z
SUMMARY:Ďábel nosí Pradu 2
DTSTART;TZID=Europe/Prague:20260508T171500
DTEND;TZID=Europe/Prague:20260508T191500
LOCATION:Univerzitní kino Scala
END:VEVENT
END:VCALENDAR
