BEGIN:VCALENDAR
PRODID:-//eluceo/ical//2.0/EN
VERSION:2.0
CALSCALE:GREGORIAN
BEGIN:VEVENT
UID:3e8c11d7babac7fe66f0f6e058a46a2c
DTSTAMP:20260425T011706Z
SUMMARY:Ďábel nosí Pradu 2
DTSTART;TZID=Europe/Prague:20260506T171500
DTEND;TZID=Europe/Prague:20260506T191500
LOCATION:Kino Přítomnost
END:VEVENT
END:VCALENDAR
BEGIN:VCALENDAR
PRODID:-//eluceo/ical//2.0/EN
VERSION:2.0
CALSCALE:GREGORIAN
BEGIN:VEVENT
UID:6ef8d76db7851e0da91f6e7f8e655486
DTSTAMP:20260425T011706Z
SUMMARY:Ďábel nosí Pradu 2
DTSTART;TZID=Europe/Prague:20260506T171500
DTEND;TZID=Europe/Prague:20260506T191500
LOCATION:Kino Přítomnost
END:VEVENT
END:VCALENDAR
