BEGIN:VCALENDAR
PRODID:-//eluceo/ical//2.0/EN
VERSION:2.0
CALSCALE:GREGORIAN
BEGIN:VEVENT
UID:055ca6b53a7423c3e7b807abbc18f0ea
DTSTAMP:20260425T011311Z
SUMMARY:Ďábel nosí Pradu 2
DTSTART;TZID=Europe/Prague:20260503T171500
DTEND;TZID=Europe/Prague:20260503T191500
LOCATION:Kino Přítomnost
END:VEVENT
END:VCALENDAR
BEGIN:VCALENDAR
PRODID:-//eluceo/ical//2.0/EN
VERSION:2.0
CALSCALE:GREGORIAN
BEGIN:VEVENT
UID:b637d42ca4365c2de927acfc1cf7d00a
DTSTAMP:20260425T011311Z
SUMMARY:Ďábel nosí Pradu 2
DTSTART;TZID=Europe/Prague:20260503T171500
DTEND;TZID=Europe/Prague:20260503T191500
LOCATION:Kino Přítomnost
END:VEVENT
END:VCALENDAR
