BEGIN:VCALENDAR
PRODID:-//eluceo/ical//2.0/EN
VERSION:2.0
CALSCALE:GREGORIAN
BEGIN:VEVENT
UID:097967252a7f47cda9435074e2a902fc
DTSTAMP:20260425T011641Z
SUMMARY:Krátká komentovaná prohlídka promítací kabiny
DTSTART;TZID=Europe/Prague:20260501T174500
DTEND;TZID=Europe/Prague:20260501T180000
LOCATION:Bio Oko
END:VEVENT
END:VCALENDAR
BEGIN:VCALENDAR
PRODID:-//eluceo/ical//2.0/EN
VERSION:2.0
CALSCALE:GREGORIAN
BEGIN:VEVENT
UID:ad70f74b11f4e1eb4ab38508a88dac7c
DTSTAMP:20260425T011641Z
SUMMARY:Krátká komentovaná prohlídka promítací kabiny
DTSTART;TZID=Europe/Prague:20260501T174500
DTEND;TZID=Europe/Prague:20260501T180000
LOCATION:Bio Oko
END:VEVENT
END:VCALENDAR
