BEGIN:VCALENDAR
PRODID:-//eluceo/ical//2.0/EN
VERSION:2.0
CALSCALE:GREGORIAN
BEGIN:VEVENT
UID:e3ae0bbdadb233821d8ba37a77b70e28
DTSTAMP:20260425T011648Z
SUMMARY:Krátká komentovaná prohlídka promítací kabiny
DTSTART;TZID=Europe/Prague:20260501T144500
DTEND;TZID=Europe/Prague:20260501T150000
LOCATION:Bio Oko
END:VEVENT
END:VCALENDAR
BEGIN:VCALENDAR
PRODID:-//eluceo/ical//2.0/EN
VERSION:2.0
CALSCALE:GREGORIAN
BEGIN:VEVENT
UID:a3403c98757ab1856197f48a7e3c9735
DTSTAMP:20260425T011648Z
SUMMARY:Krátká komentovaná prohlídka promítací kabiny
DTSTART;TZID=Europe/Prague:20260501T144500
DTEND;TZID=Europe/Prague:20260501T150000
LOCATION:Bio Oko
END:VEVENT
END:VCALENDAR
