BEGIN:VCALENDAR
PRODID:-//eluceo/ical//2.0/EN
VERSION:2.0
CALSCALE:GREGORIAN
BEGIN:VEVENT
UID:4d865fd5c161ef8bfdc834e3a9c22f0e
DTSTAMP:20260425T011207Z
SUMMARY:Krátká komentovaná prohlídka promítací kabiny
DTSTART;TZID=Europe/Prague:20260501T120000
DTEND;TZID=Europe/Prague:20260501T121500
LOCATION:Bio Oko
END:VEVENT
END:VCALENDAR
BEGIN:VCALENDAR
PRODID:-//eluceo/ical//2.0/EN
VERSION:2.0
CALSCALE:GREGORIAN
BEGIN:VEVENT
UID:eec20e414e110c8c3249023f70f0ddfd
DTSTAMP:20260425T011207Z
SUMMARY:Krátká komentovaná prohlídka promítací kabiny
DTSTART;TZID=Europe/Prague:20260501T120000
DTEND;TZID=Europe/Prague:20260501T121500
LOCATION:Bio Oko
END:VEVENT
END:VCALENDAR
