BEGIN:VCALENDAR
PRODID:-//eluceo/ical//2.0/EN
VERSION:2.0
CALSCALE:GREGORIAN
BEGIN:VEVENT
UID:ecb2240a3024c42b8530ce22fa3c2bcd
DTSTAMP:20260425T011705Z
SUMMARY:Howlův kráčející hrad
DTSTART;TZID=Europe/Prague:20260501T153000
DTEND;TZID=Europe/Prague:20260501T172800
LOCATION:Bio Oko
END:VEVENT
END:VCALENDAR
BEGIN:VCALENDAR
PRODID:-//eluceo/ical//2.0/EN
VERSION:2.0
CALSCALE:GREGORIAN
BEGIN:VEVENT
UID:db244907daa71cbbdc50a84e327fa42d
DTSTAMP:20260425T011705Z
SUMMARY:Howlův kráčející hrad
DTSTART;TZID=Europe/Prague:20260501T153000
DTEND;TZID=Europe/Prague:20260501T172800
LOCATION:Bio Oko
END:VEVENT
END:VCALENDAR
