BEGIN:VCALENDAR
PRODID:-//eluceo/ical//2.0/EN
VERSION:2.0
CALSCALE:GREGORIAN
BEGIN:VEVENT
UID:5184ffefa7a93770f07ad8feb090d35a
DTSTAMP:20260425T011339Z
SUMMARY:Ďábel nosí Pradu 2
DTSTART;TZID=Europe/Prague:20260503T150000
DTEND;TZID=Europe/Prague:20260503T170000
LOCATION:Kino Lucerna
END:VEVENT
END:VCALENDAR
BEGIN:VCALENDAR
PRODID:-//eluceo/ical//2.0/EN
VERSION:2.0
CALSCALE:GREGORIAN
BEGIN:VEVENT
UID:d73c7d6cd18fe6733c22f0518dda8856
DTSTAMP:20260425T011339Z
SUMMARY:Ďábel nosí Pradu 2
DTSTART;TZID=Europe/Prague:20260503T150000
DTEND;TZID=Europe/Prague:20260503T170000
LOCATION:Kino Lucerna
END:VEVENT
END:VCALENDAR
