BEGIN:VCALENDAR
PRODID:-//eluceo/ical//2.0/EN
VERSION:2.0
CALSCALE:GREGORIAN
BEGIN:VEVENT
UID:9f69738c3eca77b4e1c5d97912e0262a
DTSTAMP:20260421T165748Z
SUMMARY:Nevděčné bytosti
DTSTART;TZID=Europe/Prague:20260506T101500
DTEND;TZID=Europe/Prague:20260506T120500
LOCATION:Bio Central
END:VEVENT
END:VCALENDAR
BEGIN:VCALENDAR
PRODID:-//eluceo/ical//2.0/EN
VERSION:2.0
CALSCALE:GREGORIAN
BEGIN:VEVENT
UID:d4c6a3deadcf132692b9ccf4d272fef7
DTSTAMP:20260421T165748Z
SUMMARY:Nevděčné bytosti
DTSTART;TZID=Europe/Prague:20260506T101500
DTEND;TZID=Europe/Prague:20260506T120500
LOCATION:Bio Central
END:VEVENT
END:VCALENDAR
