BEGIN:VCALENDAR
PRODID:-//eluceo/ical//2.0/EN
VERSION:2.0
CALSCALE:GREGORIAN
BEGIN:VEVENT
UID:af3e6bde26ec4142c08673cbee4cb6cb
DTSTAMP:20260425T011339Z
SUMMARY:Ďábel nosí Pradu 2
DTSTART;TZID=Europe/Prague:20260506T100000
DTEND;TZID=Europe/Prague:20260506T120000
LOCATION:Bio Central
END:VEVENT
END:VCALENDAR
BEGIN:VCALENDAR
PRODID:-//eluceo/ical//2.0/EN
VERSION:2.0
CALSCALE:GREGORIAN
BEGIN:VEVENT
UID:1472c24586837d7aa413ec48a5fec671
DTSTAMP:20260425T011339Z
SUMMARY:Ďábel nosí Pradu 2
DTSTART;TZID=Europe/Prague:20260506T100000
DTEND;TZID=Europe/Prague:20260506T120000
LOCATION:Bio Central
END:VEVENT
END:VCALENDAR
