BEGIN:VCALENDAR
PRODID:-//eluceo/ical//2.0/EN
VERSION:2.0
CALSCALE:GREGORIAN
BEGIN:VEVENT
UID:d05d47c7e58b0fbc7ed89bafb49cd18f
DTSTAMP:20260421T150004Z
SUMMARY:Bouřlivé výšiny
DTSTART;TZID=Europe/Prague:20260426T173000
DTEND;TZID=Europe/Prague:20260426T194600
LOCATION:Kino Světozor
END:VEVENT
END:VCALENDAR
BEGIN:VCALENDAR
PRODID:-//eluceo/ical//2.0/EN
VERSION:2.0
CALSCALE:GREGORIAN
BEGIN:VEVENT
UID:ea61d4c4a1aab45fa45b574cad869a84
DTSTAMP:20260421T150004Z
SUMMARY:Bouřlivé výšiny
DTSTART;TZID=Europe/Prague:20260426T173000
DTEND;TZID=Europe/Prague:20260426T194600
LOCATION:Kino Světozor
END:VEVENT
END:VCALENDAR
