BEGIN:VCALENDAR
PRODID:-//eluceo/ical//2.0/EN
VERSION:2.0
CALSCALE:GREGORIAN
BEGIN:VEVENT
UID:e4b82cc75a040b75d6d973ca2ebb6ddb
DTSTAMP:20260421T150303Z
SUMMARY:Bouřlivé výšiny
DTSTART;TZID=Europe/Prague:20260425T173000
DTEND;TZID=Europe/Prague:20260425T194600
LOCATION:Kino Světozor
END:VEVENT
END:VCALENDAR
BEGIN:VCALENDAR
PRODID:-//eluceo/ical//2.0/EN
VERSION:2.0
CALSCALE:GREGORIAN
BEGIN:VEVENT
UID:a8b8cc37797502230b7629c244504fcc
DTSTAMP:20260421T150303Z
SUMMARY:Bouřlivé výšiny
DTSTART;TZID=Europe/Prague:20260425T173000
DTEND;TZID=Europe/Prague:20260425T194600
LOCATION:Kino Světozor
END:VEVENT
END:VCALENDAR
