BEGIN:VCALENDAR
PRODID:-//eluceo/ical//2.0/EN
VERSION:2.0
CALSCALE:GREGORIAN
BEGIN:VEVENT
UID:f292e5863a49ec1ae5733e19cab8d2d1
DTSTAMP:20260421T150344Z
SUMMARY:Bouřlivé výšiny
DTSTART;TZID=Europe/Prague:20260427T174500
DTEND;TZID=Europe/Prague:20260427T200100
LOCATION:Kino Světozor
END:VEVENT
END:VCALENDAR
BEGIN:VCALENDAR
PRODID:-//eluceo/ical//2.0/EN
VERSION:2.0
CALSCALE:GREGORIAN
BEGIN:VEVENT
UID:8b9b40600ac7dc534a7dbf4f34c0d60e
DTSTAMP:20260421T150344Z
SUMMARY:Bouřlivé výšiny
DTSTART;TZID=Europe/Prague:20260427T174500
DTEND;TZID=Europe/Prague:20260427T200100
LOCATION:Kino Světozor
END:VEVENT
END:VCALENDAR
