BEGIN:VCALENDAR
PRODID:-//eluceo/ical//2.0/EN
VERSION:2.0
CALSCALE:GREGORIAN
BEGIN:VEVENT
UID:90cf88255c67cf17045f627992ffc448
DTSTAMP:20260424T134026Z
SUMMARY:Neboj\, dýchej\, čaruj
DTSTART;TZID=Europe/Prague:20260426T140000
DTEND;TZID=Europe/Prague:20260426T153800
LOCATION:Kino Světozor
END:VEVENT
END:VCALENDAR
BEGIN:VCALENDAR
PRODID:-//eluceo/ical//2.0/EN
VERSION:2.0
CALSCALE:GREGORIAN
BEGIN:VEVENT
UID:ef68ce8844dc52e5d8ede3b210a5da6a
DTSTAMP:20260424T134026Z
SUMMARY:Neboj\, dýchej\, čaruj
DTSTART;TZID=Europe/Prague:20260426T140000
DTEND;TZID=Europe/Prague:20260426T153800
LOCATION:Kino Světozor
END:VEVENT
END:VCALENDAR
