BEGIN:VCALENDAR
PRODID:-//eluceo/ical//2.0/EN
VERSION:2.0
CALSCALE:GREGORIAN
BEGIN:VEVENT
UID:58d04ba4173c3eb69334ca2ae8946b87
DTSTAMP:20260421T162614Z
SUMMARY:2000 metrů do Andrijivky
DTSTART;TZID=Europe/Prague:20260426T121500
DTEND;TZID=Europe/Prague:20260426T140300
LOCATION:Bio Oko
END:VEVENT
END:VCALENDAR
BEGIN:VCALENDAR
PRODID:-//eluceo/ical//2.0/EN
VERSION:2.0
CALSCALE:GREGORIAN
BEGIN:VEVENT
UID:d9e9d4578514c0d9dcb14e2a80abef9d
DTSTAMP:20260421T162614Z
SUMMARY:2000 metrů do Andrijivky
DTSTART;TZID=Europe/Prague:20260426T121500
DTEND;TZID=Europe/Prague:20260426T140300
LOCATION:Bio Oko
END:VEVENT
END:VCALENDAR
