BEGIN:VCALENDAR
PRODID:-//eluceo/ical//2.0/EN
VERSION:2.0
CALSCALE:GREGORIAN
BEGIN:VEVENT
UID:ba3cda68f17eca8750da1b920943c687
DTSTAMP:20260421T162435Z
SUMMARY:Bláznivý Marsupilami
DTSTART;TZID=Europe/Prague:20260426T100000
DTEND;TZID=Europe/Prague:20260426T113900
LOCATION:Bio Oko
END:VEVENT
END:VCALENDAR
BEGIN:VCALENDAR
PRODID:-//eluceo/ical//2.0/EN
VERSION:2.0
CALSCALE:GREGORIAN
BEGIN:VEVENT
UID:6b719c64566ad276f4297a89978819a1
DTSTAMP:20260421T162435Z
SUMMARY:Bláznivý Marsupilami
DTSTART;TZID=Europe/Prague:20260426T100000
DTEND;TZID=Europe/Prague:20260426T113900
LOCATION:Bio Oko
END:VEVENT
END:VCALENDAR
