BEGIN:VCALENDAR
PRODID:-//eluceo/ical//2.0/EN
VERSION:2.0
CALSCALE:GREGORIAN
BEGIN:VEVENT
UID:a08afdfb91a9768565765c6514f0ebe9
DTSTAMP:20260422T011526Z
SUMMARY:Šťastni spolu
DTSTART;TZID=Europe/Prague:20260428T180000
DTEND;TZID=Europe/Prague:20260428T193600
LOCATION:Bio Oko
END:VEVENT
END:VCALENDAR
BEGIN:VCALENDAR
PRODID:-//eluceo/ical//2.0/EN
VERSION:2.0
CALSCALE:GREGORIAN
BEGIN:VEVENT
UID:6bd224e3915d9d9f21c84de4b14e46be
DTSTAMP:20260422T011526Z
SUMMARY:Šťastni spolu
DTSTART;TZID=Europe/Prague:20260428T180000
DTEND;TZID=Europe/Prague:20260428T193600
LOCATION:Bio Oko
END:VEVENT
END:VCALENDAR
