BEGIN:VCALENDAR
PRODID:-//eluceo/ical//2.0/EN
VERSION:2.0
CALSCALE:GREGORIAN
BEGIN:VEVENT
UID:c83d39b269eac646a3e00343477ec45c
DTSTAMP:20260425T011311Z
SUMMARY:Pragulic | Průvodce Karel
DTSTART;TZID=Europe/Prague:20260501T133000
DTEND;TZID=Europe/Prague:20260501T144500
LOCATION:Bio Oko
END:VEVENT
END:VCALENDAR
BEGIN:VCALENDAR
PRODID:-//eluceo/ical//2.0/EN
VERSION:2.0
CALSCALE:GREGORIAN
BEGIN:VEVENT
UID:55fb414f122fb46b29fca7d466c17c18
DTSTAMP:20260425T011311Z
SUMMARY:Pragulic | Průvodce Karel
DTSTART;TZID=Europe/Prague:20260501T133000
DTEND;TZID=Europe/Prague:20260501T144500
LOCATION:Bio Oko
END:VEVENT
END:VCALENDAR
