BEGIN:VCALENDAR
PRODID:-//eluceo/ical//2.0/EN
VERSION:2.0
CALSCALE:GREGORIAN
BEGIN:VEVENT
UID:08f4371582afd7759acab13189201a7e
DTSTAMP:20260425T011122Z
SUMMARY:Ďábel nosí Pradu 2
DTSTART;TZID=Europe/Prague:20260505T203000
DTEND;TZID=Europe/Prague:20260505T223000
LOCATION:Kino Světozor
END:VEVENT
END:VCALENDAR
BEGIN:VCALENDAR
PRODID:-//eluceo/ical//2.0/EN
VERSION:2.0
CALSCALE:GREGORIAN
BEGIN:VEVENT
UID:fb14dcad9058fe8f8b02dbf74da8846b
DTSTAMP:20260425T011122Z
SUMMARY:Ďábel nosí Pradu 2
DTSTART;TZID=Europe/Prague:20260505T203000
DTEND;TZID=Europe/Prague:20260505T223000
LOCATION:Kino Světozor
END:VEVENT
END:VCALENDAR
