BEGIN:VCALENDAR
PRODID:-//eluceo/ical//2.0/EN
VERSION:2.0
CALSCALE:GREGORIAN
BEGIN:VEVENT
UID:b7ebb85c1880fb72870ecf3dcc9c0323
DTSTAMP:20260425T011515Z
SUMMARY:Ďábel nosí Pradu 2
DTSTART;TZID=Europe/Prague:20260504T180000
DTEND;TZID=Europe/Prague:20260504T200000
LOCATION:Kino Světozor
END:VEVENT
END:VCALENDAR
BEGIN:VCALENDAR
PRODID:-//eluceo/ical//2.0/EN
VERSION:2.0
CALSCALE:GREGORIAN
BEGIN:VEVENT
UID:9238cc7fd7cb867f35c3da3f645e3f91
DTSTAMP:20260425T011515Z
SUMMARY:Ďábel nosí Pradu 2
DTSTART;TZID=Europe/Prague:20260504T180000
DTEND;TZID=Europe/Prague:20260504T200000
LOCATION:Kino Světozor
END:VEVENT
END:VCALENDAR
