BEGIN:VCALENDAR
PRODID:-//eluceo/ical//2.0/EN
VERSION:2.0
CALSCALE:GREGORIAN
BEGIN:VEVENT
UID:0dcd8a678fc650961ad2969cf3eb7fbb
DTSTAMP:20260425T011516Z
SUMMARY:Letenský dixieland
DTSTART;TZID=Europe/Prague:20260501T180000
DTEND;TZID=Europe/Prague:20260501T190000
LOCATION:Bio Oko
END:VEVENT
END:VCALENDAR
BEGIN:VCALENDAR
PRODID:-//eluceo/ical//2.0/EN
VERSION:2.0
CALSCALE:GREGORIAN
BEGIN:VEVENT
UID:109b16aeca7cd088c4a2220a691f2512
DTSTAMP:20260425T011516Z
SUMMARY:Letenský dixieland
DTSTART;TZID=Europe/Prague:20260501T180000
DTEND;TZID=Europe/Prague:20260501T190000
LOCATION:Bio Oko
END:VEVENT
END:VCALENDAR
