BEGIN:VCALENDAR
PRODID:-//eluceo/ical//2.0/EN
VERSION:2.0
CALSCALE:GREGORIAN
BEGIN:VEVENT
UID:cbc1b255c1fbfa8e03209f8b59bd87f9
DTSTAMP:20260425T011453Z
SUMMARY:Ďábel nosí Pradu 2
DTSTART;TZID=Europe/Prague:20260501T174500
DTEND;TZID=Europe/Prague:20260501T194500
LOCATION:Kino Světozor
END:VEVENT
END:VCALENDAR
BEGIN:VCALENDAR
PRODID:-//eluceo/ical//2.0/EN
VERSION:2.0
CALSCALE:GREGORIAN
BEGIN:VEVENT
UID:6af1f16d134150e07f9b39fcab59b284
DTSTAMP:20260425T011453Z
SUMMARY:Ďábel nosí Pradu 2
DTSTART;TZID=Europe/Prague:20260501T174500
DTEND;TZID=Europe/Prague:20260501T194500
LOCATION:Kino Světozor
END:VEVENT
END:VCALENDAR
